BEGIN:VCALENDAR
VERSION:2.0
PRODID:icalendar-ruby
CALSCALE:GREGORIAN
METHOD:PUBLISH
BEGIN:VEVENT
DTSTAMP:20260426T042305Z
UID:6-559220@gracechurchcamden.org
DTSTART:20261004T120000Z
DTEND:20261004T130000Z
CLASS:PUBLIC
CREATED:20260425T210146
DESCRIPTION:Holy Eucharist Rite 1
LAST-MODIFIED:20260425T210146
LOCATION:Sanctuary
SUMMARY:Holy Eucharist Rite 1
URL;VALUE=URI:https://www.gracechurchcamden.org/events/holy-eucharist-rite-
 1/2026-10-04
END:VEVENT
END:VCALENDAR
