BEGIN:VCALENDAR
VERSION:2.0
PRODID:icalendar-ruby
CALSCALE:GREGORIAN
METHOD:PUBLISH
BEGIN:VEVENT
DTSTAMP:20260424T114207Z
UID:7-556680@gracechurchcamden.org
DTSTART:20260726T143000Z
DTEND:20260726T153000Z
CLASS:PUBLIC
CREATED:20260423T221434
DESCRIPTION:Holy Eucharist Rite 2
LAST-MODIFIED:20260423T221434
LOCATION:Sanctuary
SUMMARY:Holy Eucharist Rite II
URL;VALUE=URI:https://www.gracechurchcamden.org/events/holy-eucharist-rite-
 ii/2026-07-26
END:VEVENT
END:VCALENDAR
