BEGIN:VCALENDAR
VERSION:2.0
PRODID:icalendar-ruby
CALSCALE:GREGORIAN
METHOD:PUBLISH
BEGIN:VEVENT
DTSTAMP:20260424T132659Z
UID:7-556899@gracechurchcamden.org
DTSTART:20260802T143000Z
DTEND:20260802T153000Z
CLASS:PUBLIC
CREATED:20260424T074253
DESCRIPTION:Holy Eucharist Rite 2
LAST-MODIFIED:20260424T074253
LOCATION:Sanctuary
SUMMARY:Holy Eucharist Rite II
URL;VALUE=URI:https://www.gracechurchcamden.org/events/holy-eucharist-rite-
 ii/2026-08-02
END:VEVENT
END:VCALENDAR
