BEGIN:VCALENDAR
VERSION:2.0
PRODID:icalendar-ruby
CALSCALE:GREGORIAN
METHOD:PUBLISH
BEGIN:VEVENT
DTSTAMP:20260424T183829Z
UID:7-557338@gracechurchcamden.org
DTSTART:20260823T143000Z
DTEND:20260823T153000Z
CLASS:PUBLIC
CREATED:20260424T132421
DESCRIPTION:Holy Eucharist Rite 2
LAST-MODIFIED:20260424T132421
LOCATION:Sanctuary
SUMMARY:Holy Eucharist Rite II
URL;VALUE=URI:https://www.gracechurchcamden.org/events/holy-eucharist-rite-
 ii/2026-08-23
END:VEVENT
END:VCALENDAR
