BEGIN:VCALENDAR
VERSION:2.0
PRODID:icalendar-ruby
CALSCALE:GREGORIAN
METHOD:PUBLISH
BEGIN:VEVENT
DTSTAMP:20260424T202748Z
UID:7-557557@gracechurchcamden.org
DTSTART:20260830T143000Z
DTEND:20260830T153000Z
CLASS:PUBLIC
CREATED:20260424T161111
DESCRIPTION:Holy Eucharist Rite 2
LAST-MODIFIED:20260424T161111
LOCATION:Sanctuary
SUMMARY:Holy Eucharist Rite II
URL;VALUE=URI:https://www.gracechurchcamden.org/events/holy-eucharist-rite-
 ii/2026-08-30
END:VEVENT
END:VCALENDAR
