BEGIN:VCALENDAR
VERSION:2.0
PRODID:icalendar-ruby
CALSCALE:GREGORIAN
METHOD:PUBLISH
BEGIN:VEVENT
DTSTAMP:20260424T221736Z
UID:7-557558@gracechurchcamden.org
DTSTART:20260906T143000Z
DTEND:20260906T153000Z
CLASS:PUBLIC
CREATED:20260424T161111
DESCRIPTION:Holy Eucharist Rite 2
LAST-MODIFIED:20260424T161111
LOCATION:Sanctuary
SUMMARY:Holy Eucharist Rite II
URL;VALUE=URI:https://www.gracechurchcamden.org/events/holy-eucharist-rite-
 ii/2026-09-06
END:VEVENT
END:VCALENDAR
