BEGIN:VCALENDAR
VERSION:2.0
PRODID:icalendar-ruby
CALSCALE:GREGORIAN
METHOD:PUBLISH
BEGIN:VEVENT
DTSTAMP:20260425T000654Z
UID:7-557777@gracechurchcamden.org
DTSTART:20260913T143000Z
DTEND:20260913T153000Z
CLASS:PUBLIC
CREATED:20260424T185901
DESCRIPTION:Holy Eucharist Rite 2
LAST-MODIFIED:20260424T185901
LOCATION:Sanctuary
SUMMARY:Holy Eucharist Rite II
URL;VALUE=URI:https://www.gracechurchcamden.org/events/holy-eucharist-rite-
 ii/2026-09-13
END:VEVENT
END:VCALENDAR
