BEGIN:VCALENDAR
VERSION:2.0
PRODID:icalendar-ruby
CALSCALE:GREGORIAN
METHOD:PUBLISH
BEGIN:VEVENT
DTSTAMP:20260426T030839Z
UID:24-559361@gracechurchcamden.org
DTSTART:20261014T210000Z
DTEND:20261014T213000Z
CLASS:PUBLIC
CREATED:20260425T210146
DESCRIPTION:
LAST-MODIFIED:20260425T210146
LOCATION:Sanctuary
SUMMARY:Wednesday Night Holy Eucharist Service
URL;VALUE=URI:https://www.gracechurchcamden.org/events/wednesday-night-holy
 -eucharist-service/2026-10-14
ATTACH;FILENAME=2L8A3562.JPG;FMTTYPE=image/jpeg:https://dq5pwpg1q8ru0.cloud
 front.net/2023/09/20/07/26/49/d1f14252-4698-468a-b103-2cc508d4f76d/2L8A356
 2.JPG
END:VEVENT
END:VCALENDAR
